BEGIN:VCALENDAR
VERSION:2.0
PRODID:-//Créative Académie - ECPv6.15.12.2//NONSGML v1.0//EN
CALSCALE:GREGORIAN
METHOD:PUBLISH
X-WR-CALNAME:Créative Académie
X-ORIGINAL-URL:https://creative-academie.fr
X-WR-CALDESC:Évènements pour Créative Académie
REFRESH-INTERVAL;VALUE=DURATION:PT1H
X-Robots-Tag:noindex
X-PUBLISHED-TTL:PT1H
BEGIN:VTIMEZONE
TZID:Europe/Paris
BEGIN:DAYLIGHT
TZOFFSETFROM:+0100
TZOFFSETTO:+0200
TZNAME:CEST
DTSTART:20250330T010000
END:DAYLIGHT
BEGIN:STANDARD
TZOFFSETFROM:+0200
TZOFFSETTO:+0100
TZNAME:CET
DTSTART:20251026T010000
END:STANDARD
BEGIN:DAYLIGHT
TZOFFSETFROM:+0100
TZOFFSETTO:+0200
TZNAME:CEST
DTSTART:20260329T010000
END:DAYLIGHT
BEGIN:STANDARD
TZOFFSETFROM:+0200
TZOFFSETTO:+0100
TZNAME:CET
DTSTART:20261025T010000
END:STANDARD
BEGIN:DAYLIGHT
TZOFFSETFROM:+0100
TZOFFSETTO:+0200
TZNAME:CEST
DTSTART:20270328T010000
END:DAYLIGHT
BEGIN:STANDARD
TZOFFSETFROM:+0200
TZOFFSETTO:+0100
TZNAME:CET
DTSTART:20271031T010000
END:STANDARD
END:VTIMEZONE
BEGIN:VEVENT
DTSTART;TZID=Europe/Paris:20260420T080000
DTEND;TZID=Europe/Paris:20260424T170000
DTSTAMP:20260420T164445
CREATED:20251105T124824Z
LAST-MODIFIED:20251105T124824Z
UID:17816-1776672000-1777050000@creative-academie.fr
SUMMARY:Formation Télépiloter un drone professionnel pour la prise de vue et l'inspection technique - Avril 2026
DESCRIPTION:En partenariat avec ESCADRONE\, la formation Télépilote de drone professionnel s’adresse à toute personne souhaitant acquérir une expertise en télépilotage de drone dans les catégories open et spécifique. \nLe programme associe un apprentissage théorique\, incluant la préparation de missions et la réglementation\, à une pratique intensive avec des vols réels sur différents drones et des travaux pratiques. \nIl se déroule en 2 parties: Une partie en présentiel\, du 20 avril au 24 avril (40h) et la deuxième partie en distanciel sur une plateforme de préparation aux examens (50h). \nLa formation est conforme aux réglementations européennes en vigueur et délivre un livret de progression professionnel\, qualifiant les participants comme des professionnel en télépilotage de drone. \nPour plus d’informations sur le programme\, cliquez ici. \nGrâce à nos partenaires certifiés Qualiopi\, nos formations sont éligibles au Compte personnel de formation (CPF) et aux financements (France Travail\, OPCO\, FAF…) en sous-traitance \nPour tout renseignement concernant la prise en charge du financement ou d’autres questions\, contactez-nous.
URL:https://creative-academie.fr/calendrier-formation/formation-telepiloter-drone-professionnel-prise-de-vue-avril-2026/
LOCATION:213 Avenue Marcel Dassault\, 33700 Mérignac\, 213 Avenue Marcel Dassault\, Mérignac\, 33700\, France
CATEGORIES:Drone & FPV
ATTACH;FMTTYPE=image/jpeg:https://creative-academie.fr/wp-content/uploads/2021/06/Pack_formation_expert.jpg
ORGANIZER;CN="Adrien Sifre":MAILTO:adrien@creative-academie.fr
END:VEVENT
BEGIN:VEVENT
DTSTART;TZID=Europe/Paris:20260427T080000
DTEND;TZID=Europe/Paris:20260430T170000
DTSTAMP:20260420T164445
CREATED:20251105T125058Z
LAST-MODIFIED:20251105T125058Z
UID:17818-1777276800-1777568400@creative-academie.fr
SUMMARY:Formation Photogrammétrie et modélisation 3D - Avril 2026
DESCRIPTION:La formation photogrammétrie et modélisation 3D par drone permet de maitriser toutes connaissances nécessaires à la captation\, traitement et réalisation de modèles 3D et données photogrammétriques. Une formation comprenant de nombreux travaux pratiques. Les traitements sont réalisés avec le logiciel Metashape. \nAvec la photogrammétrie s’ouvre un champ d’application important dans le domaine du BTP\, de la couverture\, de la communication ou encore de la VRD et de la communication. \nPour plus d’informations sur le programme\, cliquez ici. \nCette formation QUALIOPI est finançable par les OPCO\, FAF et Pôle emploi. \nPour tout renseignement concernant la prise en charge du financement ou d’autres questions\, contactez-nous.
URL:https://creative-academie.fr/calendrier-formation/formation-photogrammetrie-modelisation-3d-avril-2026/
LOCATION:213 Avenue Marcel Dassault\, 33700 Mérignac\, 213 Avenue Marcel Dassault\, Mérignac\, 33700\, France
CATEGORIES:Drone & FPV
ATTACH;FMTTYPE=image/jpeg:https://creative-academie.fr/wp-content/uploads/2023/02/formation_photogrametrie_modelisation3D_drone.jpg
ORGANIZER;CN="Adrien Sifre":MAILTO:adrien@creative-academie.fr
END:VEVENT
BEGIN:VEVENT
DTSTART;TZID=Europe/Paris:20260518T080000
DTEND;TZID=Europe/Paris:20260522T170000
DTSTAMP:20260420T164445
CREATED:20251105T125257Z
LAST-MODIFIED:20251105T125257Z
UID:17820-1779091200-1779469200@creative-academie.fr
SUMMARY:Formation Télépiloter un drone professionnel pour la prise de vue et l'inspection technique - Mai 2026
DESCRIPTION:En partenariat avec ESCADRONE\, la formation Télépilote de drone professionnel s’adresse à toute personne souhaitant acquérir une expertise en télépilotage de drone dans les catégories open et spécifique. \nLe programme associe un apprentissage théorique\, incluant la préparation de missions et la réglementation\, à une pratique intensive avec des vols réels sur différents drones et des travaux pratiques. \nIl se déroule en 2 parties: Une partie en présentiel\, du 18 mai au 22 mai (40h) et la deuxième partie en distanciel sur une plateforme de préparation aux examens (50h). \nLa formation est conforme aux réglementations européennes en vigueur et délivre un livret de progression professionnel\, qualifiant les participants comme des professionnel en télépilotage de drone. \nPour plus d’informations sur le programme\, cliquez ici. \nGrâce à nos partenaires certifiés Qualiopi\, nos formations sont éligibles au Compte personnel de formation (CPF) et aux financements (France Travail\, OPCO\, FAF…) en sous-traitance \nPour tout renseignement concernant la prise en charge du financement ou d’autres questions\, contactez-nous.
URL:https://creative-academie.fr/calendrier-formation/formation-telepiloter-drone-professionnel-prise-de-vue-mai-2026/
LOCATION:213 Avenue Marcel Dassault\, 33700 Mérignac\, 213 Avenue Marcel Dassault\, Mérignac\, 33700\, France
CATEGORIES:Drone & FPV
ATTACH;FMTTYPE=image/jpeg:https://creative-academie.fr/wp-content/uploads/2021/06/Pack_formation_expert.jpg
ORGANIZER;CN="Adrien Sifre":MAILTO:adrien@creative-academie.fr
END:VEVENT
BEGIN:VEVENT
DTSTART;TZID=Europe/Paris:20260526T080000
DTEND;TZID=Europe/Paris:20260528T170000
DTSTAMP:20260420T164445
CREATED:20251105T125443Z
LAST-MODIFIED:20251105T125443Z
UID:17822-1779782400-1779987600@creative-academie.fr
SUMMARY:Prise de vue par drone et post-production - Mai 2026
DESCRIPTION:La formation prise de vue par drone et post-production vous permet de maitriser la prise de vue par drone et le montage vidéo sous DaVinci Resolve. Une formation mêlant pratique et théorie. \nPour plus d’informations sur le programme\, cliquez ici. \nCette formation QUALIOPI est finançable par les OPCO\, FAF et France Travail . \nPour tout renseignement concernant la prise en charge du financement ou d’autres questions\, contactez-nous.
URL:https://creative-academie.fr/calendrier-formation/prise-de-vue-drone-post-production-mai-2026/
LOCATION:213 Avenue Marcel Dassault\, 33700 Mérignac\, 213 Avenue Marcel Dassault\, Mérignac\, 33700\, France
CATEGORIES:Drone & FPV
ATTACH;FMTTYPE=image/jpeg:https://creative-academie.fr/wp-content/uploads/2023/06/formation-Prise-de-vue-drone.jpg
ORGANIZER;CN="Adrien Sifre":MAILTO:adrien@creative-academie.fr
END:VEVENT
BEGIN:VEVENT
DTSTART;TZID=Europe/Paris:20260622T080000
DTEND;TZID=Europe/Paris:20260626T170000
DTSTAMP:20260420T164445
CREATED:20251105T125901Z
LAST-MODIFIED:20251105T125901Z
UID:17824-1782115200-1782493200@creative-academie.fr
SUMMARY:Formation Télépiloter un drone professionnel pour la prise de vue et l'inspection technique - Juin 2026
DESCRIPTION:En partenariat avec ESCADRONE\, la formation Télépilote de drone professionnel s’adresse à toute personne souhaitant acquérir une expertise en télépilotage de drone dans les catégories open et spécifique. \nLe programme associe un apprentissage théorique\, incluant la préparation de missions et la réglementation\, à une pratique intensive avec des vols réels sur différents drones et des travaux pratiques. \nIl se déroule en 2 parties: Une partie en présentiel\, du 22 juin au 26 juin (40h) et la deuxième partie en distanciel sur une plateforme de préparation aux examens (50h). \nLa formation est conforme aux réglementations européennes en vigueur et délivre un livret de progression professionnel\, qualifiant les participants comme des professionnel en télépilotage de drone. \nPour plus d’informations sur le programme\, cliquez ici. \nGrâce à nos partenaires certifiés Qualiopi\, nos formations sont éligibles au Compte personnel de formation (CPF) et aux financements (France Travail\, OPCO\, FAF…) en sous-traitance \nPour tout renseignement concernant la prise en charge du financement ou d’autres questions\, contactez-nous.
URL:https://creative-academie.fr/calendrier-formation/formation-telepiloter-drone-professionnel-prise-de-vue-juin-2026/
LOCATION:213 Avenue Marcel Dassault\, 33700 Mérignac\, 213 Avenue Marcel Dassault\, Mérignac\, 33700\, France
CATEGORIES:Drone & FPV
ATTACH;FMTTYPE=image/jpeg:https://creative-academie.fr/wp-content/uploads/2021/06/Pack_formation_expert.jpg
ORGANIZER;CN="Adrien Sifre":MAILTO:adrien@creative-academie.fr
END:VEVENT
BEGIN:VEVENT
DTSTART;TZID=Europe/Paris:20260720T080000
DTEND;TZID=Europe/Paris:20260724T170000
DTSTAMP:20260420T164445
CREATED:20251105T130047Z
LAST-MODIFIED:20251105T130047Z
UID:17826-1784534400-1784912400@creative-academie.fr
SUMMARY:Formation Télépiloter un drone professionnel pour la prise de vue et l'inspection technique - Juillet 2026
DESCRIPTION:En partenariat avec ESCADRONE\, la formation Télépilote de drone professionnel s’adresse à toute personne souhaitant acquérir une expertise en télépilotage de drone dans les catégories open et spécifique. \nLe programme associe un apprentissage théorique\, incluant la préparation de missions et la réglementation\, à une pratique intensive avec des vols réels sur différents drones et des travaux pratiques. \nIl se déroule en 2 parties: Une partie en présentiel\, du 20 juillet au 24 juillet  (40h) et la deuxième partie en distanciel sur une plateforme de préparation aux examens (50h). \nLa formation est conforme aux réglementations européennes en vigueur et délivre un livret de progression professionnel\, qualifiant les participants comme des professionnel en télépilotage de drone. \nPour plus d’informations sur le programme\, cliquez ici. \nGrâce à nos partenaires certifiés Qualiopi\, nos formations sont éligibles au Compte personnel de formation (CPF) et aux financements (France Travail\, OPCO\, FAF…) en sous-traitance \nPour tout renseignement concernant la prise en charge du financement ou d’autres questions\, contactez-nous.
URL:https://creative-academie.fr/calendrier-formation/formation-telepiloter-drone-professionnel-prise-de-vue-juillet-2026/
LOCATION:213 Avenue Marcel Dassault\, 33700 Mérignac\, 213 Avenue Marcel Dassault\, Mérignac\, 33700\, France
CATEGORIES:Drone & FPV
ATTACH;FMTTYPE=image/jpeg:https://creative-academie.fr/wp-content/uploads/2021/06/Pack_formation_expert.jpg
ORGANIZER;CN="Adrien Sifre":MAILTO:adrien@creative-academie.fr
END:VEVENT
BEGIN:VEVENT
DTSTART;TZID=Europe/Paris:20260928T080000
DTEND;TZID=Europe/Paris:20261002T170000
DTSTAMP:20260420T164445
CREATED:20251105T130444Z
LAST-MODIFIED:20251105T130444Z
UID:17828-1790582400-1790960400@creative-academie.fr
SUMMARY:Formation Télépiloter un drone professionnel pour la prise de vue et l'inspection technique - Septembre 2026
DESCRIPTION:En partenariat avec ESCADRONE\, la formation Télépilote de drone professionnel s’adresse à toute personne souhaitant acquérir une expertise en télépilotage de drone dans les catégories open et spécifique. \nLe programme associe un apprentissage théorique\, incluant la préparation de missions et la réglementation\, à une pratique intensive avec des vols réels sur différents drones et des travaux pratiques. \nIl se déroule en 2 parties: Une partie en présentiel\, du 28 septembre au 2 octobre  (40h) et la deuxième partie en distanciel sur une plateforme de préparation aux examens (50h). \nLa formation est conforme aux réglementations européennes en vigueur et délivre un livret de progression professionnel\, qualifiant les participants comme des professionnel en télépilotage de drone. \nPour plus d’informations sur le programme\, cliquez ici. \nGrâce à nos partenaires certifiés Qualiopi\, nos formations sont éligibles au Compte personnel de formation (CPF) et aux financements (France Travail\, OPCO\, FAF…) en sous-traitance \nPour tout renseignement concernant la prise en charge du financement ou d’autres questions\, contactez-nous.
URL:https://creative-academie.fr/calendrier-formation/formation-telepiloter-drone-professionnel-prise-de-vue-septembre-2026/
LOCATION:213 Avenue Marcel Dassault\, 33700 Mérignac\, 213 Avenue Marcel Dassault\, Mérignac\, 33700\, France
CATEGORIES:Drone & FPV
ATTACH;FMTTYPE=image/jpeg:https://creative-academie.fr/wp-content/uploads/2021/06/Pack_formation_expert.jpg
ORGANIZER;CN="Adrien Sifre":MAILTO:adrien@creative-academie.fr
END:VEVENT
BEGIN:VEVENT
DTSTART;TZID=Europe/Paris:20261005T080000
DTEND;TZID=Europe/Paris:20261008T170000
DTSTAMP:20260420T164445
CREATED:20251105T130710Z
LAST-MODIFIED:20251105T130710Z
UID:17830-1791187200-1791478800@creative-academie.fr
SUMMARY:Formation Photogrammétrie et modélisation 3D - Octobre 2026
DESCRIPTION:La formation photogrammétrie et modélisation 3D par drone permet de maitriser toutes connaissances nécessaires à la captation\, traitement et réalisation de modèles 3D et données photogrammétriques. Une formation comprenant de nombreux travaux pratiques. Les traitements sont réalisés avec le logiciel Metashape. \nAvec la photogrammétrie s’ouvre un champ d’application important dans le domaine du BTP\, de la couverture\, de la communication ou encore de la VRD et de la communication. \nPour plus d’informations sur le programme\, cliquez ici. \nCette formation QUALIOPI est finançable par les OPCO\, FAF et Pôle emploi. \nPour tout renseignement concernant la prise en charge du financement ou d’autres questions\, contactez-nous.
URL:https://creative-academie.fr/calendrier-formation/formation-photogrammetrie-modelisation-3d-octobre-2026/
LOCATION:213 Avenue Marcel Dassault\, 33700 Mérignac\, 213 Avenue Marcel Dassault\, Mérignac\, 33700\, France
CATEGORIES:Drone & FPV
ATTACH;FMTTYPE=image/jpeg:https://creative-academie.fr/wp-content/uploads/2023/02/formation_photogrametrie_modelisation3D_drone.jpg
ORGANIZER;CN="Adrien Sifre":MAILTO:adrien@creative-academie.fr
END:VEVENT
BEGIN:VEVENT
DTSTART;TZID=Europe/Paris:20261019T080000
DTEND;TZID=Europe/Paris:20261021T170000
DTSTAMP:20260420T164445
CREATED:20251107T095128Z
LAST-MODIFIED:20251107T095854Z
UID:17845-1792396800-1792602000@creative-academie.fr
SUMMARY:Thermographie par drone - Octobre 2026
DESCRIPTION:Devenez expert en inspection thermique aérienne grâce à la thermographie par drone :\nApprenez à détecter les pertes d’énergie\, les surchauffes ou les anomalies sur les bâtiments\, installations industrielles et parcs photovoltaïques à l’aide de capteurs infrarouges embarqués. \nCette formation pratique vous enseigne à configurer\, piloter et analyser vos relevés thermiques pour fournir des diagnostics précis et professionnels.\nUn atout incontournable dans les secteurs du BTP\, de l’énergie et de la maintenance industrielle. \n  \nPour plus d’informations sur le programme\, cliquez ici. \nGrâce à nos partenaires certifiés Qualiopi\, nos formations sont éligibles au Compte personnel de formation (CPF) et aux financements (France Travail\, OPCO\, FAF…) en sous-traitance \nPour tout renseignement concernant la prise en charge du financement ou d’autres questions\, contactez-nous.
URL:https://creative-academie.fr/calendrier-formation/thermographie-par-drone-octobre-2026/
LOCATION:213 Avenue Marcel Dassault\, 33700 Mérignac\, 213 Avenue Marcel Dassault\, Mérignac\, 33700\, France
CATEGORIES:Drone & FPV
ATTACH;FMTTYPE=image/jpeg:https://creative-academie.fr/wp-content/uploads/2023/06/formation_thermographie_drone-scaled.jpg
END:VEVENT
BEGIN:VEVENT
DTSTART;TZID=Europe/Paris:20261109T080000
DTEND;TZID=Europe/Paris:20261113T170000
DTSTAMP:20260420T164445
CREATED:20251105T131048Z
LAST-MODIFIED:20251105T131048Z
UID:17832-1794211200-1794589200@creative-academie.fr
SUMMARY:Formation Télépiloter un drone professionnel pour la prise de vue et l'inspection technique - Novembre 2026
DESCRIPTION:En partenariat avec ESCADRONE\, la formation Télépilote de drone professionnel s’adresse à toute personne souhaitant acquérir une expertise en télépilotage de drone dans les catégories open et spécifique. \nLe programme associe un apprentissage théorique\, incluant la préparation de missions et la réglementation\, à une pratique intensive avec des vols réels sur différents drones et des travaux pratiques. \nIl se déroule en 2 parties: Une partie en présentiel\, du 9 novembre au 13 novembre  (40h) et la deuxième partie en distanciel sur une plateforme de préparation aux examens (50h). \nLa formation est conforme aux réglementations européennes en vigueur et délivre un livret de progression professionnel\, qualifiant les participants comme des professionnel en télépilotage de drone. \nPour plus d’informations sur le programme\, cliquez ici. \nGrâce à nos partenaires certifiés Qualiopi\, nos formations sont éligibles au Compte personnel de formation (CPF) et aux financements (France Travail\, OPCO\, FAF…) en sous-traitance \nPour tout renseignement concernant la prise en charge du financement ou d’autres questions\, contactez-nous.
URL:https://creative-academie.fr/calendrier-formation/formation-telepiloter-drone-professionnel-prise-de-vue-novembre-2026/
LOCATION:213 Avenue Marcel Dassault\, 33700 Mérignac\, 213 Avenue Marcel Dassault\, Mérignac\, 33700\, France
CATEGORIES:Drone & FPV
ATTACH;FMTTYPE=image/jpeg:https://creative-academie.fr/wp-content/uploads/2021/06/Pack_formation_expert.jpg
ORGANIZER;CN="Adrien Sifre":MAILTO:adrien@creative-academie.fr
END:VEVENT
BEGIN:VEVENT
DTSTART;TZID=Europe/Paris:20261207T080000
DTEND;TZID=Europe/Paris:20261211T170000
DTSTAMP:20260420T164445
CREATED:20251105T131239Z
LAST-MODIFIED:20251107T094758Z
UID:17834-1796630400-1797008400@creative-academie.fr
SUMMARY:Formation Télépiloter un drone professionnel pour la prise de vue et l'inspection technique - Décembre 2026
DESCRIPTION:En partenariat avec ESCADRONE\, la formation Télépilote de drone professionnel s’adresse à toute personne souhaitant acquérir une expertise en télépilotage de drone dans les catégories open et spécifique. \nLe programme associe un apprentissage théorique\, incluant la préparation de missions et la réglementation\, à une pratique intensive avec des vols réels sur différents drones et des travaux pratiques. \nIl se déroule en 2 parties: Une partie en présentiel\, du 7 décembre au 11 décembre  (40h) et la deuxième partie en distanciel sur une plateforme de préparation aux examens (50h). \nLa formation est conforme aux réglementations européennes en vigueur et délivre un livret de progression professionnel\, qualifiant les participants comme des professionnel en télépilotage de drone. \nPour plus d’informations sur le programme\, cliquez ici. \nGrâce à nos partenaires certifiés Qualiopi\, nos formations sont éligibles au Compte personnel de formation (CPF) et aux financements (France Travail\, OPCO\, FAF…) en sous-traitance \nPour tout renseignement concernant la prise en charge du financement ou d’autres questions\, contactez-nous.
URL:https://creative-academie.fr/calendrier-formation/formation-telepiloter-drone-professionnel-prise-de-vue-decembre-2026/
LOCATION:213 Avenue Marcel Dassault\, 33700 Mérignac\, 213 Avenue Marcel Dassault\, Mérignac\, 33700\, France
CATEGORIES:Drone & FPV
ATTACH;FMTTYPE=image/jpeg:https://creative-academie.fr/wp-content/uploads/2021/06/Pack_formation_expert.jpg
ORGANIZER;CN="Adrien Sifre":MAILTO:adrien@creative-academie.fr
END:VEVENT
BEGIN:VEVENT
DTSTART;TZID=Europe/Paris:20261214T080000
DTEND;TZID=Europe/Paris:20261216T170000
DTSTAMP:20260420T164445
CREATED:20251105T131358Z
LAST-MODIFIED:20251105T131358Z
UID:17836-1797235200-1797440400@creative-academie.fr
SUMMARY:Prise de vue par drone et post-production - Décembre 2026
DESCRIPTION:La formation prise de vue par drone et post-production vous permet de maitriser la prise de vue par drone et le montage vidéo sous DaVinci Resolve. Une formation mêlant pratique et théorie. \nPour plus d’informations sur le programme\, cliquez ici. \nCette formation QUALIOPI est finançable par les OPCO\, FAF et France Travail . \nPour tout renseignement concernant la prise en charge du financement ou d’autres questions\, contactez-nous.
URL:https://creative-academie.fr/calendrier-formation/prise-de-vue-drone-post-production-decembre-2026/
LOCATION:213 Avenue Marcel Dassault\, 33700 Mérignac\, 213 Avenue Marcel Dassault\, Mérignac\, 33700\, France
CATEGORIES:Drone & FPV
ATTACH;FMTTYPE=image/jpeg:https://creative-academie.fr/wp-content/uploads/2023/06/formation-Prise-de-vue-drone.jpg
ORGANIZER;CN="Adrien Sifre":MAILTO:adrien@creative-academie.fr
END:VEVENT
END:VCALENDAR